BEGIN:VCALENDAR
VERSION:2.0
PRODID:-//wp-events-plugin.com//7.2.3.1//EN
TZID:America/New_York
X-WR-TIMEZONE:America/New_York
BEGIN:VEVENT
UID:29@gcnatureclub.org
DTSTART;TZID=America/New_York:20240917T100000
DTEND;TZID=America/New_York:20240917T120000
DTSTAMP:20240903T234129Z
URL:https://gcnatureclub.org/events/field-trip-tranquility-trails/
SUMMARY:Field Trip - Tranquility Trails (Tour de Natural Places)
DESCRIPTION:\nJoin us as we explore the natural places of Gloucester County
  as described in the 2020 Edition of Natural Places of Gloucester County\,
  a publication of the Gloucester County Nature Club.\nMeet at the parking 
 area. We will do some of the 2-mile loop trail. Plan on 1 ½ - 2 hours.\nT
 his event is free and open to the public.\nTrip Leaders: Sue Bergmann and 
 Marilyn Henry\nGet event updates on Meetup.com .\nSite Information: See Na
 tural Places of Gloucester County\, pages 79-82\, Location #19.\n\n
ATTACH;FMTTYPE=image/jpeg:https://gcnatureclub.org/wp-content/uploads/2024
 /08/tranquility-trails_m-300x196-1.jpg
LOCATION:Tranquility Trails\, 301 High Hill Road\, Woolwich Township\, NJ\,
  08085\, United States
GEO:39.750829;-75.332779
X-APPLE-STRUCTURED-LOCATION;VALUE=URI;X-ADDRESS=301 High Hill Road\, Woolwi
 ch Township\, NJ\, 08085\, United States;X-APPLE-RADIUS=100;X-TITLE=Tranqu
 ility Trails:geo:39.750829,-75.332779
END:VEVENT
BEGIN:VTIMEZONE
TZID:America/New_York
X-LIC-LOCATION:America/New_York
BEGIN:DAYLIGHT
DTSTART:20240310T030000
TZOFFSETFROM:-0500
TZOFFSETTO:-0400
TZNAME:EDT
END:DAYLIGHT
END:VTIMEZONE
END:VCALENDAR