BEGIN:VCALENDAR
VERSION:2.0
PRODID:-//wp-events-plugin.com//7.2.3.1//EN
TZID:America/New_York
X-WR-TIMEZONE:America/New_York
BEGIN:VEVENT
UID:15@gcnatureclub.org
DTSTART;TZID=America/New_York:20240522T130000
DTEND;TZID=America/New_York:20240522T150000
DTSTAMP:20240424T033804Z
URL:https://gcnatureclub.org/events/field-trip-old-pine-farm-timber-creek-
 park-tour-de-natural-places/
SUMMARY:Field Trip - Old Pine Farm & Timber Creek Park (Tour de Natural Pla
 ces)
DESCRIPTION:\nJoin us as we explore the natural places of Gloucester County
  as described in the 2020 Edition of Natural Places of Gloucester County\,
  a publication of the Gloucester County Nature Club. Over the next year we
  will be scheduling outings to visit as many of the listed natural areas a
 s possible. Activities may include bird watching\, hiking\, walks or amble
 s\, or just exploring.\nAt Old Pine Farm we will walk about 1+ miles along
  the woodland trail\, and explore the park. We will then take a short driv
 e to Timber Creek Park and walk the loop trail there. Plan on about 2+ hou
 rs. Rain cancels.\nThis event is free and open to the public.\nTrip Leader
 : Sue Bergmann\nGet event updates on Meetup.com .\nSite Information: See N
 atural Places of Gloucester County\, pages 67-70\, Location #16 for Old Pi
 ne Farm\; and pages 35-37\, Location #9 for Timber Creek.\n\n
ATTACH;FMTTYPE=image/jpeg:https://gcnatureclub.org/wp-content/uploads/2024
 /04/Old-Pine-Farm-42Freeway-2018.jpg
LOCATION:Old Pine Farm Natural Lands Trust\, 400 Rankin Avenue\, Deptford\,
  NJ\, 08096\, United States
GEO:39.809332;-75.087203
X-APPLE-STRUCTURED-LOCATION;VALUE=URI;X-ADDRESS=400 Rankin Avenue\, Deptfor
 d\, NJ\, 08096\, United States;X-APPLE-RADIUS=100;X-TITLE=Old Pine Farm Na
 tural Lands Trust:geo:39.809332,-75.087203
END:VEVENT
BEGIN:VTIMEZONE
TZID:America/New_York
X-LIC-LOCATION:America/New_York
BEGIN:DAYLIGHT
DTSTART:20240310T030000
TZOFFSETFROM:-0500
TZOFFSETTO:-0400
TZNAME:EDT
END:DAYLIGHT
END:VTIMEZONE
END:VCALENDAR