BEGIN:VCALENDAR
VERSION:2.0
PRODID:-//wp-events-plugin.com//7.2.3.1//EN
TZID:America/New_York
X-WR-TIMEZONE:America/New_York
BEGIN:VEVENT
UID:14@gcnatureclub.org
DTSTART;TZID=America/New_York:20240416T130000
DTEND;TZID=America/New_York:20240416T141500
DTSTAMP:20240411T014214Z
URL:https://gcnatureclub.org/events/field-trip-narraticon-lake-park-tour-d
 e-natural-places/
SUMMARY:Field Trip - Narraticon Lake Park (Tour de Natural Places)
DESCRIPTION:\nJoin us as we explore the natural places of Gloucester County
  as described in the 2020 Edition of Natural Places of Gloucester County\,
  a publication of the Gloucester County Nature Club. Over the next year we
  will be scheduling outings to visit as many of the listed natural areas a
 s possible. Activities may include bird watching\, hiking\, walks or amble
 s\, or just exploring.\nAt Narraticon Lake we will walk about 1 mile along
  the woodland trail\, and explore the park. Rain cancels.\nThis event is f
 ree and open to the public.\nTrip Leader: Sue Bergmann\nSite Information: 
 See Natural Places of Gloucester County\, pages 101-104\, Location #23.\n\
 n
ATTACH;FMTTYPE=image/jpeg:https://gcnatureclub.org/wp-content/uploads/2024
 /04/Narraticon-Lake-Park.jpg
LOCATION:Narraticon Lake Park\, 144 East Avenue\, Swedesboro\, NJ\, 08085\,
  United States
GEO:39.743318;-75.309217
X-APPLE-STRUCTURED-LOCATION;VALUE=URI;X-ADDRESS=144 East Avenue\, Swedesbor
 o\, NJ\, 08085\, United States;X-APPLE-RADIUS=100;X-TITLE=Narraticon Lake 
 Park:geo:39.743318,-75.309217
END:VEVENT
BEGIN:VTIMEZONE
TZID:America/New_York
X-LIC-LOCATION:America/New_York
BEGIN:DAYLIGHT
DTSTART:20240310T030000
TZOFFSETFROM:-0500
TZOFFSETTO:-0400
TZNAME:EDT
END:DAYLIGHT
END:VTIMEZONE
END:VCALENDAR