BEGIN:VCALENDAR
VERSION:2.0
PRODID:-//wp-events-plugin.com//7.2.3.1//EN
TZID:America/New_York
X-WR-TIMEZONE:America/New_York
BEGIN:VEVENT
UID:17@gcnatureclub.org
DTSTART;TZID=America/New_York:20240607T183000
DTEND;TZID=America/New_York:20240607T200000
DTSTAMP:20240509T041403Z
URL:https://gcnatureclub.org/events/field-trip-marl-pit-dinosaur-history-o
 f-ceres-park-friday/
SUMMARY:Field Trip - Marl Pit & Dinosaur History of Ceres Park (Friday)
DESCRIPTION:\nThis walk along the trails in Ceres Park will explore the int
 ersection of dinosaur history\, geology\, and 19th-century commerce. Wear 
 crocs\, rubber boots or old shoes if you want the full experience.\nThis e
 vent is free and open to the public\, but registration via Meetup is requi
 red and is limited to 25 people. There is also an identical Saturday morni
 ng trip available.\nTrip Leaders: Erik and Kris Mollenhauer\nDirections: F
 rom Rt 322 take Lambs Rd (635) to Pitman-Barnsboro Rd (553Alt). Turn left 
 onto Rt 553A. Watch for Ceres Park sign on your left after crossing over R
 t 55. Approximate street address: 964 Main Street\, Sewell\, NJ 08080. Coo
 rdinates: (39.7484523\, -75.1462949)\n\n
ATTACH;FMTTYPE=image/jpeg:https://gcnatureclub.org/wp-content/uploads/2024
 /05/Ceres-Park-Field-Trip-graphic.jpg
LOCATION:Ceres Park\, 964 Main Street\, Sewell\, New Jersey\, 08080\, Unite
 d States
GEO:39.747943;-75.146124
X-APPLE-STRUCTURED-LOCATION;VALUE=URI;X-ADDRESS=964 Main Street\, Sewell\, 
 New Jersey\, 08080\, United States;X-APPLE-RADIUS=100;X-TITLE=Ceres Park:g
 eo:39.747943,-75.146124
END:VEVENT
BEGIN:VTIMEZONE
TZID:America/New_York
X-LIC-LOCATION:America/New_York
BEGIN:DAYLIGHT
DTSTART:20240310T030000
TZOFFSETFROM:-0500
TZOFFSETTO:-0400
TZNAME:EDT
END:DAYLIGHT
END:VTIMEZONE
END:VCALENDAR