BEGIN:VCALENDAR
VERSION:2.0
PRODID:-//wp-events-plugin.com//7.2.3.1//EN
TZID:America/New_York
X-WR-TIMEZONE:America/New_York
BEGIN:VEVENT
UID:31@gcnatureclub.org
DTSTART;TZID=America/New_York:20241119T100000
DTEND;TZID=America/New_York:20241119T120000
DTSTAMP:20240905T004539Z
URL:https://gcnatureclub.org/events/field-trip-malaga-lake/
SUMMARY:Field Trip - Malaga Lake (Tour de Natural Places)
DESCRIPTION:\nJoin us as we explore the natural places of Gloucester County
  as described in the 2020 Edition of Natural Places of Gloucester County\,
  a publication of the Gloucester County Nature Club.\nWe will walk the ¾ 
 mile nature trail. Meet at the fishing pier and canoe launch parking lot.\
 nThis event is free and open to the public.\nTrip Leaders: Sue Bergmann an
 d Marilyn Henry\nGet event updates on Meetup.com .\nSite Information: See 
 Natural Places of Gloucester County\, pages 147-149\, Location #33.\n\n
LOCATION:Malaga Lake - Nature Trail\, 445 Malaga Park Drive\, Malaga\, NJ\,
  08328\, United States
GEO:39.579614;-75.056428
X-APPLE-STRUCTURED-LOCATION;VALUE=URI;X-ADDRESS=445 Malaga Park Drive\, Mal
 aga\, NJ\, 08328\, United States;X-APPLE-RADIUS=100;X-TITLE=Malaga Lake - 
 Nature Trail:geo:39.579614,-75.056428
END:VEVENT
BEGIN:VTIMEZONE
TZID:America/New_York
X-LIC-LOCATION:America/New_York
BEGIN:STANDARD
DTSTART:20241103T010000
TZOFFSETFROM:-0400
TZOFFSETTO:-0500
TZNAME:EST
END:STANDARD
END:VTIMEZONE
END:VCALENDAR