BEGIN:VCALENDAR
VERSION:2.0
PRODID:-//wp-events-plugin.com//7.2.3.1//EN
TZID:America/New_York
X-WR-TIMEZONE:America/New_York
BEGIN:VEVENT
UID:16@gcnatureclub.org
DTSTART;TZID=America/New_York:20240601T093000
DTEND;TZID=America/New_York:20240601T133000
DTSTAMP:20240424T035304Z
URL:https://gcnatureclub.org/events/field-trip-introduction-to-the-pine-ba
 rrens/
SUMMARY:Field Trip - Introduction to the Pine Barrens
DESCRIPTION:\nWith a combination of short drives and walks\, we will visit 
 several pinelands environments and look for some typical plants\, includin
 g local specialties and a few “carnivorous” species. Other taxa (birds
 \, herps\, lichens) will not be ignored..\nMeet at 9:30 AM at the Brendan 
 Byrne office\, on the south side of Route 70 about one mile northeast of t
 he intersection with Route 72 at the Four Mile traffic circle. Look for th
 e state forest entry sign on the right. Bring lunch and beverage. For more
  information\, email leader at karlanderson6@aol.com\nTrip Leader: Karl An
 derson\nGet event updates on Meetup.com .\n\n
ATTACH;FMTTYPE=image/jpeg:https://gcnatureclub.org/wp-content/uploads/2024
 /04/Brendan-Byrne-State-Forest-NJ.gov-sm.jpg
LOCATION:Brendan Byrne State Forest - Office\, Four Mile Road and Mikes Cro
 ssway\, Woodland Township\, NJ\, 08088\, United States
GEO:39.896222;-74.574996
X-APPLE-STRUCTURED-LOCATION;VALUE=URI;X-ADDRESS=Four Mile Road and Mikes Cr
 ossway\, Woodland Township\, NJ\, 08088\, United States;X-APPLE-RADIUS=100
 ;X-TITLE=Brendan Byrne State Forest - Office:geo:39.896222,-74.574996
END:VEVENT
BEGIN:VTIMEZONE
TZID:America/New_York
X-LIC-LOCATION:America/New_York
BEGIN:DAYLIGHT
DTSTART:20240310T030000
TZOFFSETFROM:-0500
TZOFFSETTO:-0400
TZNAME:EDT
END:DAYLIGHT
END:VTIMEZONE
END:VCALENDAR