BEGIN:VCALENDAR
VERSION:2.0
PRODID:-//wp-events-plugin.com//7.2.3.1//EN
TZID:America/New_York
X-WR-TIMEZONE:America/New_York
BEGIN:VEVENT
UID:21@gcnatureclub.org
DTSTART;TZID=America/New_York:20240711T100000
DTEND;TZID=America/New_York:20240711T120000
DTSTAMP:20240702T000201Z
URL:https://gcnatureclub.org/events/field-trip-fasola-park-tour-de-natural
 -places/
SUMMARY:Field Trip - Fasola Park (Tour de Natural Places)
DESCRIPTION:\nJoin us as we explore the natural places of Gloucester County
  as described in the 2020 Edition of Natural Places of Gloucester County\,
  a publication of the Gloucester County Nature Club. This summer event fea
 tures big play areas and stroller accessible walking paths. Consider bring
 ing a picnic lunch for after the walk!\nBesides the playground\, we will e
 xplore the 1.4 mile path around the park. Rain cancels.\nMeet at the upper
  level parking area by the splash pad and playground.\nThis event is free 
 and open to the public.\nTrip Leader: Sue Bergmann\nGet event updates on M
 eetup.com .\nSite Information: See Natural Places of Gloucester County\, p
 ages 33-34\, Location #8 for Charles Fasola Park.\n\n\n
ATTACH;FMTTYPE=image/jpeg:https://gcnatureclub.org/wp-content/uploads/2024
 /05/Fasola-Park-general-view-sm.jpg
LOCATION:Charles Fasola Park\, 12 Sycamore Lane\, Deptford\, NJ\, 08096\, U
 nited States
GEO:39.814399;-75.118898
X-APPLE-STRUCTURED-LOCATION;VALUE=URI;X-ADDRESS=12 Sycamore Lane\, Deptford
 \, NJ\, 08096\, United States;X-APPLE-RADIUS=100;X-TITLE=Charles Fasola Pa
 rk:geo:39.814399,-75.118898
END:VEVENT
BEGIN:VTIMEZONE
TZID:America/New_York
X-LIC-LOCATION:America/New_York
BEGIN:DAYLIGHT
DTSTART:20240310T030000
TZOFFSETFROM:-0500
TZOFFSETTO:-0400
TZNAME:EDT
END:DAYLIGHT
END:VTIMEZONE
END:VCALENDAR