BEGIN:VCALENDAR
VERSION:2.0
PRODID:-//wp-events-plugin.com//7.2.3.1//EN
TZID:America/New_York
X-WR-TIMEZONE:America/New_York
BEGIN:VEVENT
UID:30@gcnatureclub.org
DTSTART;TZID=America/New_York:20241015T100000
DTEND;TZID=America/New_York:20241015T120000
DTSTAMP:20240904T003039Z
URL:https://gcnatureclub.org/events/field-trip-elk-twp-elephant-swamp/
SUMMARY:Field Trip - Elk Twp. Trail and Elephant Swamp (Tour de Natural Pla
 ces)
DESCRIPTION:\nJoin us as we explore the natural places of Gloucester County
  as described in the 2020 Edition of Natural Places of Gloucester County\,
  a publication of the Gloucester County Nature Club.\nMeet at the Elk Twp 
 Recreational Park. Follow the driveway all the way to the end where you wi
 ll see the Frank Stewart Memorial Park sign. We will then drive to a middl
 e point of the trail entrance parking area on Rte 538 and walk the trail t
 o the Salem County line\, and back.\nThis event is free and open to the pu
 blic.\nTrip Leaders: Sue Bergmann and Marilyn Henry\nGet event updates on 
 Meetup.com .\nSite Information: See Natural Places of Gloucester County\, 
 pages 79-82\, Location #19.\n\n
ATTACH;FMTTYPE=image/jpeg:https://gcnatureclub.org/wp-content/uploads/2024
 /08/Elephant-Swamp-Trail-sign-768x576-1.jpg
LOCATION:Elephant Swamp Trail - Elk Twp. Recreational Park\, Recreation Dri
 ve\, Glassboro\, NJ\, 08028\, United States
GEO:39.668741;-75.139862
X-APPLE-STRUCTURED-LOCATION;VALUE=URI;X-ADDRESS=Recreation Drive\, Glassbor
 o\, NJ\, 08028\, United States;X-APPLE-RADIUS=100;X-TITLE=Elephant Swamp T
 rail - Elk Twp. Recreational Park:geo:39.668741,-75.139862
END:VEVENT
BEGIN:VTIMEZONE
TZID:America/New_York
X-LIC-LOCATION:America/New_York
BEGIN:DAYLIGHT
DTSTART:20240310T030000
TZOFFSETFROM:-0500
TZOFFSETTO:-0400
TZNAME:EDT
END:DAYLIGHT
END:VTIMEZONE
END:VCALENDAR